
BEGIN:VCALENDAR
VERSION:2.0
PRODID:spatie/icalendar-generator
DESCRIPTION:Events from Dětský domov\, Praktická škola\, Základní šk
 ola a Mateřská škola Nymburk\, příspěvková organizace
X-WR-CALDESC:Events from Dětský domov\, Praktická škola\, Základní š
 kola a Mateřská škola Nymburk\, příspěvková organizace
REFRESH-INTERVAL;VALUE=DURATION:PT1440M
X-PUBLISHED-TTL:PT1440M
BEGIN:VTIMEZONE
TZID:Europe/Prague
BEGIN:STANDARD
DTSTART:20221030T030000Z
TZOFFSETFROM:+0200
TZOFFSETTO:+0100
END:STANDARD
BEGIN:DAYLIGHT
DTSTART:20230326T020000Z
TZOFFSETFROM:+0100
TZOFFSETTO:+0200
END:DAYLIGHT
END:VTIMEZONE
BEGIN:VTIMEZONE
TZID:UTC
BEGIN:STANDARD
DTSTART:20250726T134557Z
TZOFFSETFROM:+0000
TZOFFSETTO:+0000
END:STANDARD
END:VTIMEZONE
BEGIN:VEVENT
UID:10-7
DTSTAMP:20260422T134557Z
SUMMARY:Pobyt v solné jeskyni
LOCATION:
ORGANIZER;CN=Eva Zoubková:MAILTO:zoubkova@zsdd.cz
DTSTART;TZID=Europe/Prague;VALUE=DATE:20230105
DTEND;TZID=Europe/Prague;VALUE=DATE:20230106
X-ALT-DESC;FMTTYPE=TEXT/HTML:Pobyt v solné jeskyni - mateřská škola spe
 ciální\, I.PT
CATEGORIES:Výchozí
URL;VALUE=URI:https://zsdd.cz/mc-events/pobyt-v-solne-jeskyni/
METHOD:PUBLISH
END:VEVENT
END:VCALENDAR